BEGIN:VCALENDAR
VERSION:2.0
PRODID:-//Throwdarts - ECPv6.15.20//NONSGML v1.0//EN
CALSCALE:GREGORIAN
METHOD:PUBLISH
X-WR-CALNAME:Throwdarts
X-ORIGINAL-URL:https://www.throwdarts.at
X-WR-CALDESC:Veranstaltungen für Throwdarts
REFRESH-INTERVAL;VALUE=DURATION:PT1H
X-Robots-Tag:noindex
X-PUBLISHED-TTL:PT1H
BEGIN:VTIMEZONE
TZID:Europe/Vienna
BEGIN:DAYLIGHT
TZOFFSETFROM:+0100
TZOFFSETTO:+0200
TZNAME:CEST
DTSTART:20250330T010000
END:DAYLIGHT
BEGIN:STANDARD
TZOFFSETFROM:+0200
TZOFFSETTO:+0100
TZNAME:CET
DTSTART:20251026T010000
END:STANDARD
BEGIN:DAYLIGHT
TZOFFSETFROM:+0100
TZOFFSETTO:+0200
TZNAME:CEST
DTSTART:20260329T010000
END:DAYLIGHT
BEGIN:STANDARD
TZOFFSETFROM:+0200
TZOFFSETTO:+0100
TZNAME:CET
DTSTART:20261025T010000
END:STANDARD
BEGIN:DAYLIGHT
TZOFFSETFROM:+0100
TZOFFSETTO:+0200
TZNAME:CEST
DTSTART:20270328T010000
END:DAYLIGHT
BEGIN:STANDARD
TZOFFSETFROM:+0200
TZOFFSETTO:+0100
TZNAME:CET
DTSTART:20271031T010000
END:STANDARD
END:VTIMEZONE
BEGIN:VEVENT
DTSTART;TZID=Europe/Vienna:20260110T130000
DTEND;TZID=Europe/Vienna:20260110T220000
DTSTAMP:20260420T181627
CREATED:20251119T111455Z
LAST-MODIFIED:20251119T111456Z
UID:23482-1768050000-1768082400@www.throwdarts.at
SUMMARY:Siegerehrung Salzburg
DESCRIPTION:ALLE Divisionen Salzburg! – Ehrung der Mannschaften und Spieler – Ausscheidungsturnier Lloret de Mar –
URL:https://www.throwdarts.at/termin/siegerehrung-salzburg/
LOCATION:Voglwirt Anthering\, Dorfplatz 2\, Anthering\, Sbg\, 5102\, Austria
ATTACH;FMTTYPE=image/jpeg:https://www.throwdarts.at/wp-content/uploads/2025/11/SBGHeader.jpg
ORGANIZER;CN="Throw Dart- Liga Salzburg":MAILTO:office@throwdarts.at
END:VEVENT
BEGIN:VEVENT
DTSTART;TZID=Europe/Vienna:20260110T143000
DTEND;TZID=Europe/Vienna:20260110T220000
DTSTAMP:20260420T181627
CREATED:20251119T111820Z
LAST-MODIFIED:20251119T111821Z
UID:23488-1768055400-1768082400@www.throwdarts.at
SUMMARY:Lloret de Mar - Ausscheidung
DESCRIPTION:Ab in den Süden 2.0 !
URL:https://www.throwdarts.at/termin/lloret-de-mar-ausscheidung/
LOCATION:Voglwirt Anthering\, Dorfplatz 2\, Anthering\, Sbg\, 5102\, Austria
CATEGORIES:Liga,Radikal Darts,Salzburg,Siegerehrung,Turnier
ATTACH;FMTTYPE=image/jpeg:https://www.throwdarts.at/wp-content/uploads/2025/11/AUsschHeader.jpg
ORGANIZER;CN="Throw Dart- Liga Salzburg":MAILTO:office@throwdarts.at
END:VEVENT
END:VCALENDAR