BEGIN:VCALENDAR
VERSION:2.0
PRODID:-//Throwdarts - ECPv6.15.20//NONSGML v1.0//EN
CALSCALE:GREGORIAN
METHOD:PUBLISH
X-WR-CALNAME:Throwdarts
X-ORIGINAL-URL:https://www.throwdarts.at
X-WR-CALDESC:Veranstaltungen für Throwdarts
REFRESH-INTERVAL;VALUE=DURATION:PT1H
X-Robots-Tag:noindex
X-PUBLISHED-TTL:PT1H
BEGIN:VTIMEZONE
TZID:Europe/Vienna
BEGIN:DAYLIGHT
TZOFFSETFROM:+0100
TZOFFSETTO:+0200
TZNAME:CEST
DTSTART:20250330T010000
END:DAYLIGHT
BEGIN:STANDARD
TZOFFSETFROM:+0200
TZOFFSETTO:+0100
TZNAME:CET
DTSTART:20251026T010000
END:STANDARD
BEGIN:DAYLIGHT
TZOFFSETFROM:+0100
TZOFFSETTO:+0200
TZNAME:CEST
DTSTART:20260329T010000
END:DAYLIGHT
BEGIN:STANDARD
TZOFFSETFROM:+0200
TZOFFSETTO:+0100
TZNAME:CET
DTSTART:20261025T010000
END:STANDARD
BEGIN:DAYLIGHT
TZOFFSETFROM:+0100
TZOFFSETTO:+0200
TZNAME:CEST
DTSTART:20270328T010000
END:DAYLIGHT
BEGIN:STANDARD
TZOFFSETFROM:+0200
TZOFFSETTO:+0100
TZNAME:CET
DTSTART:20271031T010000
END:STANDARD
END:VTIMEZONE
BEGIN:VEVENT
DTSTART;TZID=Europe/Vienna:20260106T130000
DTEND;TZID=Europe/Vienna:20260106T190000
DTSTAMP:20260421T002443
CREATED:20251119T110955Z
LAST-MODIFIED:20251119T110955Z
UID:23478-1767704400-1767726000@www.throwdarts.at
SUMMARY:Siegerehrung OÖ
DESCRIPTION:Division Linz – Enns – Steyr – EnnstalChampions\, Double Out & Oldies Divisionen
URL:https://www.throwdarts.at/termin/siegerehrung-ooe/
LOCATION:Schachnerhalle\, Sandstraße 8\, Garsten\, 4451\, Austria
ATTACH;FMTTYPE=image/jpeg:https://www.throwdarts.at/wp-content/uploads/2025/11/ooeHeader.jpg
END:VEVENT
END:VCALENDAR