BEGIN:VCALENDAR
VERSION:2.0
PRODID:-//Throwdarts - ECPv6.15.20//NONSGML v1.0//EN
CALSCALE:GREGORIAN
METHOD:PUBLISH
X-ORIGINAL-URL:https://www.throwdarts.at
X-WR-CALDESC:Veranstaltungen für Throwdarts
REFRESH-INTERVAL;VALUE=DURATION:PT1H
X-Robots-Tag:noindex
X-PUBLISHED-TTL:PT1H
BEGIN:VTIMEZONE
TZID:Europe/Vienna
BEGIN:DAYLIGHT
TZOFFSETFROM:+0100
TZOFFSETTO:+0200
TZNAME:CEST
DTSTART:20240331T010000
END:DAYLIGHT
BEGIN:STANDARD
TZOFFSETFROM:+0200
TZOFFSETTO:+0100
TZNAME:CET
DTSTART:20241027T010000
END:STANDARD
BEGIN:DAYLIGHT
TZOFFSETFROM:+0100
TZOFFSETTO:+0200
TZNAME:CEST
DTSTART:20250330T010000
END:DAYLIGHT
BEGIN:STANDARD
TZOFFSETFROM:+0200
TZOFFSETTO:+0100
TZNAME:CET
DTSTART:20251026T010000
END:STANDARD
BEGIN:DAYLIGHT
TZOFFSETFROM:+0100
TZOFFSETTO:+0200
TZNAME:CEST
DTSTART:20260329T010000
END:DAYLIGHT
BEGIN:STANDARD
TZOFFSETFROM:+0200
TZOFFSETTO:+0100
TZNAME:CET
DTSTART:20261025T010000
END:STANDARD
END:VTIMEZONE
BEGIN:VEVENT
DTSTART;TZID=Europe/Vienna:20250614T110000
DTEND;TZID=Europe/Vienna:20250614T170000
DTSTAMP:20260421T201026
CREATED:20250425T092330Z
LAST-MODIFIED:20250425T095700Z
UID:22817-1749898800-1749920400@www.throwdarts.at
SUMMARY:IDF Ausscheidung Linz
DESCRIPTION:Ausscheidungsturnier für IDF Samorin – Details
URL:https://www.throwdarts.at/termin/idf-ausscheidung-linz/
LOCATION:Hellmonseder Sport\, Julius‐Raab‐Straße 6–8\, Linz\, OÖ\, 4040\, Austria
CATEGORIES:IDF Tournament,Turnier
ATTACH;FMTTYPE=image/jpeg:https://www.throwdarts.at/wp-content/uploads/2025/04/IDF_WSD.jpg
ORGANIZER;CN="Throw Dart Liga Austria":MAILTO:office@throwdarts.at
END:VEVENT
BEGIN:VEVENT
DTSTART;TZID=Europe/Vienna:20250614T130000
DTEND;TZID=Europe/Vienna:20250614T210000
DTSTAMP:20260421T201026
CREATED:20250425T093147Z
LAST-MODIFIED:20250602T081149Z
UID:22829-1749906000-1749934800@www.throwdarts.at
SUMMARY:Siegerehrung Innviertel
DESCRIPTION:Ligakassa – Auszahlung – Endturnier – Vorschau Herbst \n\n\n\nInnviertel_SVPlakatF2025Herunterladen
URL:https://www.throwdarts.at/termin/siegerehrung-innviertel-2/
LOCATION:Bezirkssporthalle\, Auf der Haiden 82\, Braunau\, OÖ\, 5280
ATTACH;FMTTYPE=image/jpeg:https://www.throwdarts.at/wp-content/uploads/2018/06/EmSiegerehrung52.jpg
ORGANIZER;CN="Throw Dart- Liga Salzburg":MAILTO:office@throwdarts.at
END:VEVENT
END:VCALENDAR