



BEGIN:VCALENDAR
VERSION:2.0
PRODID:-//Throwdarts - ECPv4.6.18//NONSGML v1.0//EN
CALSCALE:GREGORIAN
METHOD:PUBLISH
X-WR-CALNAME:Throwdarts
X-ORIGINAL-URL:https://www.throwdarts.at
X-WR-CALDESC:Veranstaltungen für Throwdarts
BEGIN:VEVENT
DTSTART;TZID=Europe/Berlin:20180601T193000
DTEND;TZID=Europe/Berlin:20180601T230000
DTSTAMP:20180623T212316
CREATED:20180423T100434Z
LAST-MODIFIED:20180423T100434Z
UID:13422-1527881400-1527894000@www.throwdarts.at
SUMMARY:Siegerehrung Salzburg Teil 1
DESCRIPTION:Für alle Divisionen Salzburg / Flachgau / Tennengau\, die im Level C und D spielen \n\n19:30 Uhr: Ehrung der Mannschaften und Spieler\nAbschlussturnier für alle aktiven Spieler dieser Divisionen\n\n
URL:https://www.throwdarts.at/event/siegerehrung-salzburg-teil-1/
LOCATION:Itzlinger Hauptstrasse 93\, Salzburg\, Salzburg\, 5020\, Austria
CATEGORIES:Liga,Salzburg,Siegerehrung,Turnier
ORGANIZER;CN="Throw%20Dart-%20Liga%20Salzburg":MAILTO:office@throwdarts.at
END:VEVENT
BEGIN:VEVENT
DTSTART;TZID=Europe/Berlin:20180602T130000
DTEND;TZID=Europe/Berlin:20180602T220000
DTSTAMP:20180623T212316
CREATED:20180423T102217Z
LAST-MODIFIED:20180514T093629Z
UID:13430-1527944400-1527976800@www.throwdarts.at
SUMMARY:Siegerehrung Salzburg Teil 2
DESCRIPTION:Für alle Divisionen Salzburg / Flachagu / Tennengau Level A und B und Nationleague 1 & 2\n(= alle Divisionen mit Cricket im Spielplan) \n\n13 Uhr Ehrungen der Mannschaften und Spieler\n14 Uhr Ligakassa – Auszahlung\nab 14:30 Uhr Abschlussturnier Throw Darts Open\nInfo hier\n\n  \n  \n
URL:https://www.throwdarts.at/event/siegerehrung-salzburg-teil-2/
LOCATION:Itzlinger Hauptstrasse 93\, Salzburg\, Salzburg\, 5020\, Austria
CATEGORIES:Liga,Nation League,Salzburg,Siegerehrung,Turnier
ORGANIZER;CN="Throw%20Dart%20Liga%20Austria":MAILTO:office@throwdarts.at
END:VEVENT
BEGIN:VEVENT
DTSTART;TZID=Europe/Berlin:20180602T140000
DTEND;TZID=Europe/Berlin:20180602T220000
DTSTAMP:20180623T212316
CREATED:20180423T104258Z
LAST-MODIFIED:20180423T104920Z
UID:13442-1527948000-1527976800@www.throwdarts.at
SUMMARY:Siegerehrung Happy Game
DESCRIPTION:\nRückblick auf die abgelaufene Saison\nSiegerehrung der einzelnen Divisionen: Mannschafts- und Einzelwertung\n„Draw Your Partner“ Turnier\nPlakat\n\n
URL:https://www.throwdarts.at/event/siegerehrung-happy-game-6/
LOCATION:Flurweg 6\, Ennsdorf\, 4482\, Österreich
CATEGORIES:Happy Game,Liga,Siegerehrung,Turnier
ORGANIZER;CN="Happy%20Game":MAILTO:office@happygame.at
END:VEVENT
BEGIN:VEVENT
DTSTART;VALUE=DATE:20180608
DTEND;VALUE=DATE:20180610
DTSTAMP:20180623T212316
CREATED:20180514T093203Z
LAST-MODIFIED:20180514T093436Z
UID:13502-1528416000-1528588799@www.throwdarts.at
SUMMARY:1. DV Rohr Dartturnier
DESCRIPTION:Dartturnier des DV Rohr im Rohrer Dorfstüberl Ortsplatz 3\, 4532 Rohr im Kremstal \nTurnierplakat \n
URL:https://www.throwdarts.at/event/1-dv-rohr-dartturnier/
CATEGORIES:Happy Game,Turnier
END:VEVENT
BEGIN:VEVENT
DTSTART;VALUE=DATE:20180609
DTEND;VALUE=DATE:20180616
DTSTAMP:20180623T212316
CREATED:20180423T101724Z
LAST-MODIFIED:20180607T122121Z
UID:13425-1528502400-1529107199@www.throwdarts.at
SUMMARY:EDU Europameisterschaften 2018
DESCRIPTION:Alle Infos unter: www.edu-dart.eu \nTurnierprogramm der ganzen Woche: European Dart Championship 2018 \n
URL:https://www.throwdarts.at/event/edu-europameisterschaften-2018/
LOCATION:Caorle\, 30021\, Italien
CATEGORIES:EDU Ranking,Europameisterschaften,Turnier
ATTACH;FMTTYPE=image/jpeg:https://www.throwdarts.at/wp-content/uploads/2018/04/PlakatCaorle.jpg
END:VEVENT
BEGIN:VEVENT
DTSTART;TZID=Europe/Berlin:20180609T130000
DTEND;TZID=Europe/Berlin:20180609T190000
DTSTAMP:20180623T212316
CREATED:20180423T102850Z
LAST-MODIFIED:20180607T122645Z
UID:13438-1528549200-1528570800@www.throwdarts.at
SUMMARY:Siegerehrung Lungau
DESCRIPTION:Für alle Teams und Spieler der Region Lungau \n\n13 Uhr: Ehrung der Spieler und Mannschaften\nab 14 Uhr: Abschlussturnier Lungau\n\n
URL:https://www.throwdarts.at/event/siegerehrung-lungau-8/
LOCATION:Murgasse 19\, Tamsweg\, Salzburg\, 5580\, Österreich
CATEGORIES:Liga,Lungau,Siegerehrung,Turnier
ATTACH;FMTTYPE=image/jpeg:https://www.throwdarts.at/wp-content/uploads/2018/04/Lungau_SVTurnierF2018.jpg
END:VEVENT
BEGIN:VEVENT
DTSTART;TZID=Europe/Berlin:20180623T130000
DTEND;TZID=Europe/Berlin:20180623T210000
DTSTAMP:20180623T212316
CREATED:20180423T100032Z
LAST-MODIFIED:20180607T122012Z
UID:13418-1529758800-1529787600@www.throwdarts.at
SUMMARY:Siegerehrung Innviertel
DESCRIPTION:\n13 Uhr: Ehrung der Mannschaften und Einzelspieler\nEndturnier für alle Innviertler Ligaspieler\, Beginn im Anschluss an die Siegerehrung\n\n
URL:https://www.throwdarts.at/event/siegerehrung-innviertel-13/
LOCATION:Sportplatzstrasse 10\, Andorf\, OÖ\, 4770\, Österreich
CATEGORIES:Innviertel,Siegerehrung,Turnier
ATTACH;FMTTYPE=image/jpeg:https://www.throwdarts.at/wp-content/uploads/2018/04/Innviertel_SVTurnier-PlakatF2018.jpg
ORGANIZER;CN="Throw%20Dart-%20Liga%20Salzburg":MAILTO:office@throwdarts.at
END:VEVENT
BEGIN:VEVENT
DTSTART;TZID=Europe/Berlin:20180630T110000
DTEND;TZID=Europe/Berlin:20180630T170000
DTSTAMP:20180623T212316
CREATED:20180426T071848Z
LAST-MODIFIED:20180607T121928Z
UID:13448-1530356400-1530378000@www.throwdarts.at
SUMMARY:Oberndorfer Dart Open
DESCRIPTION:Dart – Turnier der „Reserverdarter“ aus Oberndorf \n\nSportföderpreise im Gesamtwert von € 1.500\,–\nHerren Einzel / Damen Einzel / Doppel\nIn Verbindung mit einem Volleyballturnier mit Spielern der Bundesliga\nVoranmeldung bis Do. 28. 6. erbeten\nTurnierbeschreibung\n\n
URL:https://www.throwdarts.at/event/oberndorfer-dart-open/
LOCATION:Josef Mohr Str. 4a\, Oberndorf\, Salzburg\, 5110\, Österreich
CATEGORIES:Salzburg,Turnier
ATTACH;FMTTYPE=image/jpeg:https://www.throwdarts.at/wp-content/uploads/2018/04/TurnierOberndorf30062018.jpg
END:VEVENT
BEGIN:VEVENT
DTSTART;TZID=Europe/Berlin:20180630T133000
DTEND;TZID=Europe/Berlin:20180630T200000
DTSTAMP:20180623T212316
CREATED:20180423T102453Z
LAST-MODIFIED:20180607T121829Z
UID:13436-1530365400-1530388800@www.throwdarts.at
SUMMARY:Siegerehrung Pinzgau / Pongau
DESCRIPTION:Siegerehrung und Abschlussturnier Divisionen Pinzgau & Pongau \n\nSiegerehrung ab 13.30 Uhr\nTurnier ab 14.00\n\n
URL:https://www.throwdarts.at/event/siegerehrung-pinzgau-pongau-3/
LOCATION:Nikolaus Gassner Str. 18A\, Kaprun\, 5710
CATEGORIES:Liga,Pinzgau,Pongau,Siegerehrung,Turnier
ATTACH;FMTTYPE=image/jpeg:https://www.throwdarts.at/wp-content/uploads/2018/04/Pinzgau_SVTurnierF2018.jpg
ORGANIZER;CN="Throw%20Dart-%20Liga%20Salzburg":MAILTO:office@throwdarts.at
END:VEVENT
END:VCALENDAR